BEGIN:VCALENDAR
VERSION:2.0
PRODID:-//Department of Commerce - ECPv4.2.6//NONSGML v1.0//EN
CALSCALE:GREGORIAN
METHOD:PUBLISH
X-WR-CALNAME:Department of Commerce
X-ORIGINAL-URL:https://mgt.sjp.ac.lk/com
X-WR-CALDESC:Events for Department of Commerce
BEGIN:VEVENT
DTSTART;TZID=UTC+0:20170803T080000
DTEND;TZID=UTC+0:20170803T170000
DTSTAMP:20260423T124115
CREATED:20170803T023033
LAST-MODIFIED:20170803T023033
UID:616-1501747200-1501779600@mgt.sjp.ac.lk
SUMMARY:ComBat - 2017
DESCRIPTION:
URL:https://mgt.sjp.ac.lk/com/event/combat-2017/
CATEGORIES:Annual Event,Department Event,Student Association Event
ATTACH;FMTTYPE=image/jpeg:https://mgt.sjp.ac.lk/com/wp-content/uploads/2016/09/Cricket-logo-e1474523421452.jpg
END:VEVENT
END:VCALENDAR