BEGIN:VCALENDAR
VERSION:2.0
PRODID:-//Department of Commerce - ECPv4.2.6//NONSGML v1.0//EN
CALSCALE:GREGORIAN
METHOD:PUBLISH
X-WR-CALNAME:Department of Commerce
X-ORIGINAL-URL:https://mgt.sjp.ac.lk/com
X-WR-CALDESC:Events for Department of Commerce
BEGIN:VEVENT
DTSTART;TZID=UTC+5.5:20210607T090000
DTEND;TZID=UTC+5.5:20210607T090000
DTSTAMP:20260419T184452
CREATED:20210603T073305
LAST-MODIFIED:20210603T073305
UID:2039-1623056400-1623056400@mgt.sjp.ac.lk
SUMMARY:Importance of logic and structure in writing
DESCRIPTION: \nThe Department of Commerce – FMSC would like to invite you for the guest lecture on ‘Importance of Logic and Structure in Writing’ to be held on June 7\, 2021 from 9.00 a.m to 11.00 a.m via zoom platform. The guest speaker for this event is Ms. Ayoma Peiris\, Associate Director\, Acuity Knowledge Partners.\nThe main objective of this guest lecture is to enhance the undergraduate’s knowledge on the practical application of researching and writing knowledge in the corporate sector. Ms. Ayoma Peiris will be discussing the role of a research consultant/ research analyst\, how to conduct a market analysis and make strong recommendations through data analysis.\n \n\nJoin the meeting: https://learn.zoom.us/j/64150388195?pwd=b2Y3eUpZT0dYT0RIckJWaFRKQXY3Zz09
URL:https://mgt.sjp.ac.lk/com/event/importance-of-logic-and-structure-in-writing/
ATTACH;FMTTYPE=image/jpeg:https://mgt.sjp.ac.lk/com/wp-content/uploads/2021/06/Ms-Ayoma-Peiris-e1622705265885.jpg
END:VEVENT
END:VCALENDAR