BEGIN:VCALENDAR
VERSION:2.0
PRODID:-//Department of Commerce - ECPv4.2.6//NONSGML v1.0//EN
CALSCALE:GREGORIAN
METHOD:PUBLISH
X-WR-CALNAME:Department of Commerce
X-ORIGINAL-URL:https://mgt.sjp.ac.lk/com
X-WR-CALDESC:Events for Department of Commerce
BEGIN:VEVENT
DTSTART;TZID=UTC+0:20190129T030000
DTEND;TZID=UTC+0:20190129T170000
DTSTAMP:20260420T015454
CREATED:20190218T010052
LAST-MODIFIED:20190218T013215
UID:984-1548730800-1548781200@mgt.sjp.ac.lk
SUMMARY:Meeting with IGP - Sri Lanka
DESCRIPTION:COMSO society meet Inspector General of Police\, Mr. Pujith Jayasundara at police head quarters and collected some inspirational information\, for their magazine "Vanijaya Arunalu". They have selected Mr. Pujith Jayasundara who was graduated from department of commerce\, as a role model for their magazine.\n\n\n 
URL:https://mgt.sjp.ac.lk/com/event/meeting-with-igp-sri-lanka/
CATEGORIES:All Events,Department Event,Student Association Event
ATTACH;FMTTYPE=image/jpeg:https://mgt.sjp.ac.lk/com/wp-content/uploads/2019/02/50916964_2292379720786330_4706399620786290688_o.jpg
END:VEVENT
END:VCALENDAR