BEGIN:VCALENDAR
VERSION:2.0
PRODID:-//Department of Commerce - ECPv4.2.6//NONSGML v1.0//EN
CALSCALE:GREGORIAN
METHOD:PUBLISH
X-WR-CALNAME:Department of Commerce
X-ORIGINAL-URL:https://mgt.sjp.ac.lk/com
X-WR-CALDESC:Events for Department of Commerce
BEGIN:VEVENT
DTSTART;TZID=UTC+0:20190101T080000
DTEND;TZID=UTC+0:20190101T090000
DTSTAMP:20260420T061244
CREATED:20190218T005151
LAST-MODIFIED:20190218T005233
UID:981-1546329600-1546333200@mgt.sjp.ac.lk
SUMMARY:New Year Celebrations at Department of Commerce
DESCRIPTION:Department of Commerce celebrated 2019 new year traditions along with a table filled with new year sweets. Dean of the faculty\, head\, all department members and students participated for the event. \n\n 
URL:https://mgt.sjp.ac.lk/com/event/new-year-celebrations-at-department-of-commerce/
CATEGORIES:All Events,Annual Event,Department Event
END:VEVENT
END:VCALENDAR