BEGIN:VCALENDAR
VERSION:2.0
PRODID:-//Department of Finance - ECPv6.6.0.2//NONSGML v1.0//EN
CALSCALE:GREGORIAN
METHOD:PUBLISH
X-WR-CALNAME:Department of Finance
X-ORIGINAL-URL:https://mgt.sjp.ac.lk/fin
X-WR-CALDESC:Events for Department of Finance
REFRESH-INTERVAL;VALUE=DURATION:PT1H
X-Robots-Tag:noindex
X-PUBLISHED-TTL:PT1H
BEGIN:VTIMEZONE
TZID:UTC
BEGIN:STANDARD
TZOFFSETFROM:+0000
TZOFFSETTO:+0000
TZNAME:UTC
DTSTART:20160101T000000
END:STANDARD
END:VTIMEZONE
BEGIN:VEVENT
DTSTART;TZID=UTC:20180809T180000
DTEND;TZID=UTC:20180809T230000
DTSTAMP:20260420T042758
CREATED:20180806T233435Z
LAST-MODIFIED:20180806T233500Z
UID:1567-1533837600-1533855600@mgt.sjp.ac.lk
SUMMARY:NADA 2018
DESCRIPTION:Annual Aesthetic Extravaganza 
URL:https://mgt.sjp.ac.lk/fin/event/nada-2018/
LOCATION:University of Sri Jayewardenepura
ATTACH;FMTTYPE=image/jpeg:https://mgt.sjp.ac.lk/fin/wp-content/uploads/2018/08/facebook_1533618023353-1.jpg
END:VEVENT
BEGIN:VEVENT
DTSTART;TZID=UTC:20180208T080000
DTEND;TZID=UTC:20180208T170000
DTSTAMP:20260420T042758
CREATED:20180208T002847Z
LAST-MODIFIED:20180208T002847Z
UID:1442-1518076800-1518109200@mgt.sjp.ac.lk
SUMMARY:අපවත් වී වදාළ අප විශ්ව විද්‍යාලයේ කුලපති අතිපූජ්‍යය බෙල්ලන්විල විමලරතන නාහිමියන්ට අජරාමර නිවන් සුව!
DESCRIPTION:ශ්‍රී ජයවර්ධනපුර විශ්ව විද්‍යාලයේ මූල්‍ය අධ්‍යනාංශයේ ආචාර්ය මණ්ඩලය සහ සිසු සිසුවියන්ගේ සතිශය සංවේගය!
URL:https://mgt.sjp.ac.lk/fin/event/%e0%b6%85%e0%b6%b4%e0%b7%80%e0%b6%ad%e0%b7%8a-%e0%b7%80%e0%b7%93-%e0%b7%80%e0%b6%af%e0%b7%8f%e0%b7%85-%e0%b6%85%e0%b6%b4-%e0%b7%80%e0%b7%92%e0%b7%81%e0%b7%8a%e0%b7%80-%e0%b7%80%e0%b7%92%e0%b6%af/
CATEGORIES:A Calibration,A Deadline,A Department Event,SAF Event
ATTACH;FMTTYPE=image/jpeg:https://mgt.sjp.ac.lk/fin/wp-content/uploads/2018/02/Bellanwila-Wimalarathana-Thero-1.jpg
END:VEVENT
BEGIN:VEVENT
DTSTART;VALUE=DATE:20170212
DTEND;VALUE=DATE:20170213
DTSTAMP:20260420T042758
CREATED:20161227T062412Z
LAST-MODIFIED:20161227T062412Z
UID:915-1486857600-1486943999@mgt.sjp.ac.lk
SUMMARY:Application Closing Date for M.Sc. / PGD AppFin - 2017
DESCRIPTION:
URL:https://mgt.sjp.ac.lk/fin/event/application-closing-date-m-sc-pgd-appfin-2017/
CATEGORIES:A Deadline
ATTACH;FMTTYPE=image/jpeg:https://mgt.sjp.ac.lk/fin/wp-content/uploads/2016/12/Faculty-of-Management-Studies-Commerce-1-270x270.jpg
END:VEVENT
BEGIN:VEVENT
DTSTART;VALUE=DATE:20161025
DTEND;VALUE=DATE:20161026
DTSTAMP:20260420T042758
CREATED:20161025T003303Z
LAST-MODIFIED:20161025T003303Z
UID:539-1477353600-1477439999@mgt.sjp.ac.lk
SUMMARY:University Investment Day 2016
DESCRIPTION:
URL:https://mgt.sjp.ac.lk/fin/event/university-investment-day-2016/
LOCATION:University of Sri Jayewardenepura
ATTACH;FMTTYPE=image/jpeg:https://mgt.sjp.ac.lk/fin/wp-content/uploads/2016/10/investment-day-final.jpg
END:VEVENT
BEGIN:VEVENT
DTSTART;VALUE=DATE:20161015
DTEND;VALUE=DATE:20161017
DTSTAMP:20260420T042758
CREATED:20161007T004226Z
LAST-MODIFIED:20161007T005830Z
UID:520-1476489600-1476662399@mgt.sjp.ac.lk
SUMMARY:Annual Field Trip 2016
DESCRIPTION:Annual Field Trip of the students of the Department of Finance with an CSR project ” Snehadara”\, financial literacy survey and an educational factory visit.
URL:https://mgt.sjp.ac.lk/fin/event/annual-field-trip-2016/
LOCATION:Kosgala\, Rathnapura\, Sri Lanka
ATTACH;FMTTYPE=image/jpeg:https://mgt.sjp.ac.lk/fin/wp-content/uploads/2016/10/download-1.jpg
END:VEVENT
BEGIN:VEVENT
DTSTART;TZID=UTC:20160901T180000
DTEND;TZID=UTC:20160901T220000
DTSTAMP:20260420T042758
CREATED:20160831T003339Z
LAST-MODIFIED:20160831T003339Z
UID:469-1472752800-1472767200@mgt.sjp.ac.lk
SUMMARY:NADA 2016
DESCRIPTION:Annual Talent Show organized by The Students’ Association of Finance\, of university of Sri Jayewardenepura
URL:https://mgt.sjp.ac.lk/fin/event/nada-2016/
LOCATION:University of Sri Jayewardenepura
CATEGORIES:A Department Event,SAF Event
ATTACH;FMTTYPE=image/jpeg:https://mgt.sjp.ac.lk/fin/wp-content/uploads/2016/08/NADA.jpg
END:VEVENT
BEGIN:VEVENT
DTSTART;VALUE=DATE:20160210
DTEND;VALUE=DATE:20160211
DTSTAMP:20260420T042758
CREATED:20160125T200840Z
LAST-MODIFIED:20160205T031539Z
UID:121-1455062400-1455148799@mgt.sjp.ac.lk
SUMMARY:Await for Upcoming Events
DESCRIPTION:Department of Finance\, Faculty of Management Studies & Commerce University of Sri Jayewardenepura GangodawilaNugegoda Sri Lanka. 10250
URL:https://mgt.sjp.ac.lk/fin/event/await-for-upcoming-events/
CATEGORIES:A Calibration,A Deadline,A Department Event,All Events,Annual Event,Exams,SAF Event,University Event
ATTACH;FMTTYPE=image/jpeg:https://mgt.sjp.ac.lk/fin/wp-content/uploads/2016/01/backgroun_vector-768x384.jpg
END:VEVENT
END:VCALENDAR